BEGIN:VCALENDAR
VERSION:2.0
PRODID:icalendar-ruby
CALSCALE:GREGORIAN
METHOD:PUBLISH
BEGIN:VEVENT
DTSTAMP:20260423T054439Z
UID:10-265618@bybible.org
DTSTART:20261024T170000Z
DTEND:20261024T180000Z
CLASS:PUBLIC
CREATED:20260422T200639
DESCRIPTION:Backyard Bible Club
LAST-MODIFIED:20260422T200639
LOCATION:
SUMMARY:Backyard Bible Club
URL;VALUE=URI:https://www.bybible.org/events/backyard-bible-club--10/2026-1
 0-24
END:VEVENT
END:VCALENDAR
