BEGIN:VCALENDAR
VERSION:2.0
PRODID:icalendar-ruby
CALSCALE:GREGORIAN
METHOD:PUBLISH
BEGIN:VEVENT
DTSTAMP:20260423T011858Z
UID:10-265472@bybible.org
DTSTART:20261003T170000Z
DTEND:20261003T180000Z
CLASS:PUBLIC
CREATED:20260422T171222
DESCRIPTION:Backyard Bible Club
LAST-MODIFIED:20260422T171222
LOCATION:
SUMMARY:Backyard Bible Club
URL;VALUE=URI:https://www.bybible.org/events/backyard-bible-club--10/2026-1
 0-03
END:VEVENT
END:VCALENDAR
