BEGIN:VCALENDAR
VERSION:2.0
PRODID:icalendar-ruby
CALSCALE:GREGORIAN
METHOD:PUBLISH
BEGIN:VEVENT
DTSTAMP:20260422T233501Z
UID:10-265328@bybible.org
DTSTART:20260926T170000Z
DTEND:20260926T180000Z
CLASS:PUBLIC
CREATED:20260422T142048
DESCRIPTION:Backyard Bible Club
LAST-MODIFIED:20260422T142048
LOCATION:
SUMMARY:Backyard Bible Club
URL;VALUE=URI:https://www.bybible.org/events/backyard-bible-club--10/2026-0
 9-26
END:VEVENT
END:VCALENDAR
