BEGIN:VCALENDAR
VERSION:2.0
PRODID:icalendar-ruby
CALSCALE:GREGORIAN
METHOD:PUBLISH
BEGIN:VEVENT
DTSTAMP:20260422T185331Z
UID:10-265182@bybible.org
DTSTART:20260905T170000Z
DTEND:20260905T180000Z
CLASS:PUBLIC
CREATED:20260422T112526
DESCRIPTION:Backyard Bible Club
LAST-MODIFIED:20260422T112526
LOCATION:
SUMMARY:Backyard Bible Club
URL;VALUE=URI:https://www.bybible.org/events/backyard-bible-club--10/2026-0
 9-05
END:VEVENT
END:VCALENDAR
